BEGIN:VCALENDAR
VERSION:2.0
PRODID:-//STAR - ECPv6.15.20//NONSGML v1.0//EN
CALSCALE:GREGORIAN
METHOD:PUBLISH
X-ORIGINAL-URL:https://star.ngo
X-WR-CALDESC:Events for STAR
REFRESH-INTERVAL;VALUE=DURATION:PT1H
X-Robots-Tag:noindex
X-PUBLISHED-TTL:PT1H
BEGIN:VTIMEZONE
TZID:America/Chicago
BEGIN:DAYLIGHT
TZOFFSETFROM:-0600
TZOFFSETTO:-0500
TZNAME:CDT
DTSTART:20240310T080000
END:DAYLIGHT
BEGIN:STANDARD
TZOFFSETFROM:-0500
TZOFFSETTO:-0600
TZNAME:CST
DTSTART:20241103T070000
END:STANDARD
BEGIN:DAYLIGHT
TZOFFSETFROM:-0600
TZOFFSETTO:-0500
TZNAME:CDT
DTSTART:20250309T080000
END:DAYLIGHT
BEGIN:STANDARD
TZOFFSETFROM:-0500
TZOFFSETTO:-0600
TZNAME:CST
DTSTART:20251102T070000
END:STANDARD
BEGIN:DAYLIGHT
TZOFFSETFROM:-0600
TZOFFSETTO:-0500
TZNAME:CDT
DTSTART:20260308T080000
END:DAYLIGHT
BEGIN:STANDARD
TZOFFSETFROM:-0500
TZOFFSETTO:-0600
TZNAME:CST
DTSTART:20261101T070000
END:STANDARD
END:VTIMEZONE
BEGIN:VEVENT
DTSTART;VALUE=DATE:20250303
DTEND;VALUE=DATE:20250305
DTSTAMP:20260419T131034
CREATED:20240617T174623Z
LAST-MODIFIED:20241113T173839Z
UID:10001804-1740960000-1741132799@star.ngo
SUMMARY:Office Closed - Mardi Gras Break
DESCRIPTION:We will be closed starting on Monday\, March 3rd through Tuesday\, March 4th in observance of Lundi Gras and Mardi Gras. Our 24/7 hotline will be available if you need support during this time: 855-435-7827
URL:https://star.ngo/event/office-closed-mardi-gras-break/
LOCATION:LA
CATEGORIES:front page,Office Closure
END:VEVENT
BEGIN:VEVENT
DTSTART;TZID=America/Chicago:20250308T110000
DTEND;TZID=America/Chicago:20250308T140000
DTSTAMP:20260419T131034
CREATED:20250307T204210Z
LAST-MODIFIED:20250307T204210Z
UID:10002292-1741431600-1741442400@star.ngo
SUMMARY:Alexandria Mall Presents Community Resource Event
DESCRIPTION:A gathering of organizations benefitting the community through the sharing of information and activities for families. \n\nParticipants:\n\n\nEckerd Connects\nCenla Christian Childcare Center\nCenla Medication Access Program\nAcadiana Legal Service Corporation\nDepartment of Children and Family Services- Family Support Division\nSexual Trauma Awareness and Response(STAR)\nPFLAG Alexandria\nChildren’s Advocacy Network\nPeace of Mind Psychiatric Services\, LLC\nCentral LA Human Services District\nCentral Louisiana Area Health Education Center\nCenLa Healthy Start\nAvoyelles Community & Youth Coalition\nAlexandria Housing Authority
URL:https://star.ngo/event/alexandria-mall-presents-community-resource-event/
LOCATION:Alexandria Mall\, 3437 Masonic Drive\, Alexandria\, LA\, 71302\, United States
CATEGORIES:front page
END:VEVENT
BEGIN:VEVENT
DTSTART;TZID=America/Chicago:20250308T120000
DTEND;TZID=America/Chicago:20250308T160000
DTSTAMP:20260419T131034
CREATED:20250307T203147Z
LAST-MODIFIED:20250307T203728Z
UID:10002291-1741435200-1741449600@star.ngo
SUMMARY:Time Warp BR Presents International Women's Day Sip & Shop
DESCRIPTION:This International Women’s Day Time Warp BR is giving back! Join us March 8th\, where 10% of your purchases will be donated to @staradvocates! STAR advocates to improve trauma response and create social change to end sexual violence! Our friends @thehopeshopbr and @sunflowerandstone will be here\, and in support of STAR also! We hope to see you for this amazing event with an amazing cause!
URL:https://star.ngo/event/time-warp-br-presents-international-womens-day-sip-shop/
LOCATION:Time Warp Boutique\, 3001 Government St\, Baton Rouge\, LA\, 70806\, United States
CATEGORIES:front page
END:VEVENT
BEGIN:VEVENT
DTSTART;TZID=America/Chicago:20250310T180000
DTEND;TZID=America/Chicago:20250310T193000
DTSTAMP:20260419T131034
CREATED:20241011T193415Z
LAST-MODIFIED:20250502T162153Z
UID:10001826-1741629600-1741635000@star.ngo
SUMMARY:The Roux: Healing Skills Group (Virtual)
DESCRIPTION:STAR hosts a weekly foundational healing skills group on Monday evenings for survivors who have experienced sexual trauma. This group is open to primary survivors of all genders\, ages 18 and older. Are you interested in participating? Contact us at (855) 435-7827 to RSVP.
URL:https://star.ngo/event/the-roux-healing-skills-group-2-2/2025-03-10/
LOCATION:Virtual
CATEGORIES:front page
ATTACH;FMTTYPE=image/jpeg:https://star.ngo/wp-content/uploads/2024/05/Screenshot-2024-05-20-142936.jpg
END:VEVENT
BEGIN:VEVENT
DTSTART;TZID=America/Chicago:20250312T173000
DTEND;TZID=America/Chicago:20250312T183000
DTSTAMP:20260419T131034
CREATED:20250127T182134Z
LAST-MODIFIED:20250422T204014Z
UID:10001851-1741800600-1741804200@star.ngo
SUMMARY:Trauma Processing Group (Virtual)
DESCRIPTION:STAR will be hosting a 10-week trauma processing group on Wednesday evenings for survivors who have experienced sexual trauma. \nThe trauma processing group provides clients with an opportunity to discuss how the impacts of trauma manifest in their day to day lives. The group is an open space for clients to share both obvious and subtle ways in which trauma has affected coping\, relationships\, and emotional flexibility. The intention of the group is to receive support and understanding from individuals with similar life experiences within the safety of a therapeutically-facilitated processing group. \nThis group is open to primary survivors of all genders\, ages 18 and older. Are you interested in participating? Contact us at (855) 435-7827 to RSVP. \n 
URL:https://star.ngo/event/trauma-processing-group-virtual/2025-03-12/
LOCATION:LA
CATEGORIES:front page
ATTACH;FMTTYPE=image/png:https://star.ngo/wp-content/uploads/2025/01/Trauma-Processing-Group.png
END:VEVENT
BEGIN:VEVENT
DTSTART;TZID=America/Chicago:20250313T193000
DTEND;TZID=America/Chicago:20250313T210000
DTSTAMP:20260419T131034
CREATED:20250307T201611Z
LAST-MODIFIED:20250307T201751Z
UID:10001910-1741894200-1741899600@star.ngo
SUMMARY:LSU School of Theatre presents 'Roleplay'
DESCRIPTION:A Play About the College Student Experience \nRoleplay\, March 14-23 (PWYC on March 13)\, Reilly Theatre\, Tower Drive\nCreated by a team from Tulane University and updated for the LSU campus with the help of the LSU cast. Roleplay depicts several college students who navigate the university system\, sexual assault\, party culture\, and social pressures.
URL:https://star.ngo/event/lsu-school-of-theatre-presents-roleplay/2025-03-13/
LOCATION:Reilly Theatre\, 10 Tower Drive\, Baton Rouge\, LA\, 70808\, United States
END:VEVENT
BEGIN:VEVENT
DTSTART;TZID=America/Chicago:20250314T193000
DTEND;TZID=America/Chicago:20250314T210000
DTSTAMP:20260419T131034
CREATED:20250307T201611Z
LAST-MODIFIED:20250307T201751Z
UID:10001911-1741980600-1741986000@star.ngo
SUMMARY:LSU School of Theatre presents 'Roleplay'
DESCRIPTION:A Play About the College Student Experience \nRoleplay\, March 14-23 (PWYC on March 13)\, Reilly Theatre\, Tower Drive\nCreated by a team from Tulane University and updated for the LSU campus with the help of the LSU cast. Roleplay depicts several college students who navigate the university system\, sexual assault\, party culture\, and social pressures.
URL:https://star.ngo/event/lsu-school-of-theatre-presents-roleplay/2025-03-14/
LOCATION:Reilly Theatre\, 10 Tower Drive\, Baton Rouge\, LA\, 70808\, United States
END:VEVENT
BEGIN:VEVENT
DTSTART;TZID=America/Chicago:20250315T193000
DTEND;TZID=America/Chicago:20250315T210000
DTSTAMP:20260419T131034
CREATED:20250307T201611Z
LAST-MODIFIED:20250307T201751Z
UID:10001912-1742067000-1742072400@star.ngo
SUMMARY:LSU School of Theatre presents 'Roleplay'
DESCRIPTION:A Play About the College Student Experience \nRoleplay\, March 14-23 (PWYC on March 13)\, Reilly Theatre\, Tower Drive\nCreated by a team from Tulane University and updated for the LSU campus with the help of the LSU cast. Roleplay depicts several college students who navigate the university system\, sexual assault\, party culture\, and social pressures.
URL:https://star.ngo/event/lsu-school-of-theatre-presents-roleplay/2025-03-15/
LOCATION:Reilly Theatre\, 10 Tower Drive\, Baton Rouge\, LA\, 70808\, United States
END:VEVENT
BEGIN:VEVENT
DTSTART;TZID=America/Chicago:20250316T140000
DTEND;TZID=America/Chicago:20250316T153000
DTSTAMP:20260419T131034
CREATED:20250307T202248Z
LAST-MODIFIED:20250307T202248Z
UID:10002290-1742133600-1742139000@star.ngo
SUMMARY:LSU School of Theatre presents 'Roleplay'
DESCRIPTION:A Play About the College Student Experience \nRoleplay\, March 14-23 (PWYC on March 13)\, Reilly Theatre\, Tower Drive\nCreated by a team from Tulane University and updated for the LSU campus with the help of the LSU cast. Roleplay depicts several college students who navigate the university system\, sexual assault\, party culture\, and social pressures.
URL:https://star.ngo/event/lsu-school-of-theatre-presents-roleplay-3/
LOCATION:Reilly Theatre\, 10 Tower Drive\, Baton Rouge\, LA\, 70808\, United States
END:VEVENT
BEGIN:VEVENT
DTSTART;TZID=America/Chicago:20250317T180000
DTEND;TZID=America/Chicago:20250317T193000
DTSTAMP:20260419T131034
CREATED:20241011T193415Z
LAST-MODIFIED:20250502T162153Z
UID:10001827-1742234400-1742239800@star.ngo
SUMMARY:The Roux: Healing Skills Group (Virtual)
DESCRIPTION:STAR hosts a weekly foundational healing skills group on Monday evenings for survivors who have experienced sexual trauma. This group is open to primary survivors of all genders\, ages 18 and older. Are you interested in participating? Contact us at (855) 435-7827 to RSVP.
URL:https://star.ngo/event/the-roux-healing-skills-group-2-2/2025-03-17/
LOCATION:Virtual
CATEGORIES:front page
ATTACH;FMTTYPE=image/jpeg:https://star.ngo/wp-content/uploads/2024/05/Screenshot-2024-05-20-142936.jpg
END:VEVENT
BEGIN:VEVENT
DTSTART;TZID=America/Chicago:20250319T173000
DTEND;TZID=America/Chicago:20250319T183000
DTSTAMP:20260419T131034
CREATED:20250127T182134Z
LAST-MODIFIED:20250422T204014Z
UID:10001852-1742405400-1742409000@star.ngo
SUMMARY:Trauma Processing Group (Virtual)
DESCRIPTION:STAR will be hosting a 10-week trauma processing group on Wednesday evenings for survivors who have experienced sexual trauma. \nThe trauma processing group provides clients with an opportunity to discuss how the impacts of trauma manifest in their day to day lives. The group is an open space for clients to share both obvious and subtle ways in which trauma has affected coping\, relationships\, and emotional flexibility. The intention of the group is to receive support and understanding from individuals with similar life experiences within the safety of a therapeutically-facilitated processing group. \nThis group is open to primary survivors of all genders\, ages 18 and older. Are you interested in participating? Contact us at (855) 435-7827 to RSVP. \n 
URL:https://star.ngo/event/trauma-processing-group-virtual/2025-03-19/
LOCATION:LA
CATEGORIES:front page
ATTACH;FMTTYPE=image/png:https://star.ngo/wp-content/uploads/2025/01/Trauma-Processing-Group.png
END:VEVENT
BEGIN:VEVENT
DTSTART;TZID=America/Chicago:20250319T193000
DTEND;TZID=America/Chicago:20250319T210000
DTSTAMP:20260419T131034
CREATED:20250307T201611Z
LAST-MODIFIED:20250307T201751Z
UID:10001913-1742412600-1742418000@star.ngo
SUMMARY:LSU School of Theatre presents 'Roleplay'
DESCRIPTION:A Play About the College Student Experience \nRoleplay\, March 14-23 (PWYC on March 13)\, Reilly Theatre\, Tower Drive\nCreated by a team from Tulane University and updated for the LSU campus with the help of the LSU cast. Roleplay depicts several college students who navigate the university system\, sexual assault\, party culture\, and social pressures.
URL:https://star.ngo/event/lsu-school-of-theatre-presents-roleplay/2025-03-19/
LOCATION:Reilly Theatre\, 10 Tower Drive\, Baton Rouge\, LA\, 70808\, United States
END:VEVENT
BEGIN:VEVENT
DTSTART;TZID=America/Chicago:20250320T193000
DTEND;TZID=America/Chicago:20250320T210000
DTSTAMP:20260419T131034
CREATED:20250307T201611Z
LAST-MODIFIED:20250307T201751Z
UID:10001914-1742499000-1742504400@star.ngo
SUMMARY:LSU School of Theatre presents 'Roleplay'
DESCRIPTION:A Play About the College Student Experience \nRoleplay\, March 14-23 (PWYC on March 13)\, Reilly Theatre\, Tower Drive\nCreated by a team from Tulane University and updated for the LSU campus with the help of the LSU cast. Roleplay depicts several college students who navigate the university system\, sexual assault\, party culture\, and social pressures.
URL:https://star.ngo/event/lsu-school-of-theatre-presents-roleplay/2025-03-20/
LOCATION:Reilly Theatre\, 10 Tower Drive\, Baton Rouge\, LA\, 70808\, United States
END:VEVENT
BEGIN:VEVENT
DTSTART;TZID=America/Chicago:20250321T193000
DTEND;TZID=America/Chicago:20250321T210000
DTSTAMP:20260419T131034
CREATED:20250307T201611Z
LAST-MODIFIED:20250307T201751Z
UID:10001915-1742585400-1742590800@star.ngo
SUMMARY:LSU School of Theatre presents 'Roleplay'
DESCRIPTION:A Play About the College Student Experience \nRoleplay\, March 14-23 (PWYC on March 13)\, Reilly Theatre\, Tower Drive\nCreated by a team from Tulane University and updated for the LSU campus with the help of the LSU cast. Roleplay depicts several college students who navigate the university system\, sexual assault\, party culture\, and social pressures.
URL:https://star.ngo/event/lsu-school-of-theatre-presents-roleplay/2025-03-21/
LOCATION:Reilly Theatre\, 10 Tower Drive\, Baton Rouge\, LA\, 70808\, United States
END:VEVENT
BEGIN:VEVENT
DTSTART;TZID=America/Chicago:20250322T193000
DTEND;TZID=America/Chicago:20250322T210000
DTSTAMP:20260419T131034
CREATED:20250307T201611Z
LAST-MODIFIED:20250307T201751Z
UID:10001916-1742671800-1742677200@star.ngo
SUMMARY:LSU School of Theatre presents 'Roleplay'
DESCRIPTION:A Play About the College Student Experience \nRoleplay\, March 14-23 (PWYC on March 13)\, Reilly Theatre\, Tower Drive\nCreated by a team from Tulane University and updated for the LSU campus with the help of the LSU cast. Roleplay depicts several college students who navigate the university system\, sexual assault\, party culture\, and social pressures.
URL:https://star.ngo/event/lsu-school-of-theatre-presents-roleplay/2025-03-22/
LOCATION:Reilly Theatre\, 10 Tower Drive\, Baton Rouge\, LA\, 70808\, United States
END:VEVENT
BEGIN:VEVENT
DTSTART;TZID=America/Chicago:20250323T140000
DTEND;TZID=America/Chicago:20250323T153000
DTSTAMP:20260419T131034
CREATED:20250307T202734Z
LAST-MODIFIED:20250307T202734Z
UID:10002289-1742738400-1742743800@star.ngo
SUMMARY:LSU School of Theatre presents 'Roleplay'
DESCRIPTION:A Play About the College Student Experience \nRoleplay\, March 14-23 (PWYC on March 13)\, Reilly Theatre\, Tower Drive\nCreated by a team from Tulane University and updated for the LSU campus with the help of the LSU cast. Roleplay depicts several college students who navigate the university system\, sexual assault\, party culture\, and social pressures.
URL:https://star.ngo/event/lsu-school-of-theatre-presents-roleplay-3-2/
LOCATION:Reilly Theatre\, 10 Tower Drive\, Baton Rouge\, LA\, 70808\, United States
END:VEVENT
BEGIN:VEVENT
DTSTART;TZID=America/Chicago:20250326T173000
DTEND;TZID=America/Chicago:20250326T183000
DTSTAMP:20260419T131034
CREATED:20250127T182134Z
LAST-MODIFIED:20250422T204014Z
UID:10001853-1743010200-1743013800@star.ngo
SUMMARY:Trauma Processing Group (Virtual)
DESCRIPTION:STAR will be hosting a 10-week trauma processing group on Wednesday evenings for survivors who have experienced sexual trauma. \nThe trauma processing group provides clients with an opportunity to discuss how the impacts of trauma manifest in their day to day lives. The group is an open space for clients to share both obvious and subtle ways in which trauma has affected coping\, relationships\, and emotional flexibility. The intention of the group is to receive support and understanding from individuals with similar life experiences within the safety of a therapeutically-facilitated processing group. \nThis group is open to primary survivors of all genders\, ages 18 and older. Are you interested in participating? Contact us at (855) 435-7827 to RSVP. \n 
URL:https://star.ngo/event/trauma-processing-group-virtual/2025-03-26/
LOCATION:LA
CATEGORIES:front page
ATTACH;FMTTYPE=image/png:https://star.ngo/wp-content/uploads/2025/01/Trauma-Processing-Group.png
END:VEVENT
BEGIN:VEVENT
DTSTART;TZID=America/Chicago:20250331T180000
DTEND;TZID=America/Chicago:20250331T193000
DTSTAMP:20260419T131034
CREATED:20241011T193415Z
LAST-MODIFIED:20250502T162153Z
UID:10001829-1743444000-1743449400@star.ngo
SUMMARY:The Roux: Healing Skills Group (Virtual)
DESCRIPTION:STAR hosts a weekly foundational healing skills group on Monday evenings for survivors who have experienced sexual trauma. This group is open to primary survivors of all genders\, ages 18 and older. Are you interested in participating? Contact us at (855) 435-7827 to RSVP.
URL:https://star.ngo/event/the-roux-healing-skills-group-2-2/2025-03-31/
LOCATION:Virtual
CATEGORIES:front page
ATTACH;FMTTYPE=image/jpeg:https://star.ngo/wp-content/uploads/2024/05/Screenshot-2024-05-20-142936.jpg
END:VEVENT
END:VCALENDAR