BEGIN:VCALENDAR
VERSION:2.0
PRODID:-//STAR - ECPv6.15.20//NONSGML v1.0//EN
CALSCALE:GREGORIAN
METHOD:PUBLISH
X-WR-CALNAME:STAR
X-ORIGINAL-URL:https://star.ngo
X-WR-CALDESC:Events for STAR
REFRESH-INTERVAL;VALUE=DURATION:PT1H
X-Robots-Tag:noindex
X-PUBLISHED-TTL:PT1H
BEGIN:VTIMEZONE
TZID:America/Chicago
BEGIN:DAYLIGHT
TZOFFSETFROM:-0600
TZOFFSETTO:-0500
TZNAME:CDT
DTSTART:20230312T080000
END:DAYLIGHT
BEGIN:STANDARD
TZOFFSETFROM:-0500
TZOFFSETTO:-0600
TZNAME:CST
DTSTART:20231105T070000
END:STANDARD
BEGIN:DAYLIGHT
TZOFFSETFROM:-0600
TZOFFSETTO:-0500
TZNAME:CDT
DTSTART:20240310T080000
END:DAYLIGHT
BEGIN:STANDARD
TZOFFSETFROM:-0500
TZOFFSETTO:-0600
TZNAME:CST
DTSTART:20241103T070000
END:STANDARD
BEGIN:DAYLIGHT
TZOFFSETFROM:-0600
TZOFFSETTO:-0500
TZNAME:CDT
DTSTART:20250309T080000
END:DAYLIGHT
BEGIN:STANDARD
TZOFFSETFROM:-0500
TZOFFSETTO:-0600
TZNAME:CST
DTSTART:20251102T070000
END:STANDARD
END:VTIMEZONE
BEGIN:VEVENT
DTSTART;TZID=America/Chicago:20240304T173000
DTEND;TZID=America/Chicago:20240304T183000
DTSTAMP:20260421T050451
CREATED:20240216T205432Z
LAST-MODIFIED:20240219T213237Z
UID:10001343-1709573400-1709577000@star.ngo
SUMMARY:Secondary Survivor Support Group (Virtual)
DESCRIPTION:STAR hosts a weekly Secondary Survivor Support Group for parents\, guardians\, and loved ones of survivors who have experienced sexual trauma on Monday evenings. This group is open to secondary survivors of all genders ages 18 and older. Are you interested in participating? Contact us at (855) 435-7827 to RSVP.
URL:https://star.ngo/event/secondary-survivor-support-group-virtual-7/2024-03-04/
LOCATION:Virtual
CATEGORIES:front page
ATTACH;FMTTYPE=image/png:https://star.ngo/wp-content/uploads/2024/02/Virtual-ASST-Support-Groups-Spring-2024.png
END:VEVENT
BEGIN:VEVENT
DTSTART;TZID=America/Chicago:20240306T183000
DTEND;TZID=America/Chicago:20240306T200000
DTSTAMP:20260421T050451
CREATED:20240105T212901Z
LAST-MODIFIED:20240105T212901Z
UID:10001329-1709749800-1709755200@star.ngo
SUMMARY:Circle of Support Group (Virtual)
DESCRIPTION:STAR hosts a weekly Circle of Support meeting for survivors of sexual trauma on Wednesday evenings. This group is open to survivors of all genders ages 18 and older. Are you interested in participating? Contact us at 1-855-435-7827 to RSVP.
URL:https://star.ngo/event/circle-of-support-group-virtual-4/2024-03-06/
CATEGORIES:front page
ATTACH;FMTTYPE=image/png:https://star.ngo/wp-content/uploads/2023/06/Group-Flyers-Spring-2023.png
END:VEVENT
BEGIN:VEVENT
DTSTART;VALUE=DATE:20240311
DTEND;VALUE=DATE:20240312
DTSTAMP:20260421T050451
CREATED:20240219T214410Z
LAST-MODIFIED:20240219T214502Z
UID:10001352-1710115200-1710201599@star.ngo
SUMMARY:Office Closure - Daylight Savings Time
DESCRIPTION:We will be closed on Monday\, March 11th in observance of Daylight Savings Time. ⏰ Research suggests that the week after Daylight Savings Time begins\, there is an increase in mistakes and workplace injuries due to sleep deprivation as our bodies try to adjust to the time change. To help reduce these risks to our staff and to give at least one full adjustment day\, we will be closed. Our 24/7 hotline will be available if you need support during this time: 855-435-7827
URL:https://star.ngo/event/office-closure-daylight-savings-time/
CATEGORIES:front page
ATTACH;FMTTYPE=image/png:https://star.ngo/wp-content/uploads/2024/02/DST.png
END:VEVENT
BEGIN:VEVENT
DTSTART;TZID=America/Chicago:20240313T183000
DTEND;TZID=America/Chicago:20240313T200000
DTSTAMP:20260421T050451
CREATED:20240105T212901Z
LAST-MODIFIED:20240105T212901Z
UID:10001330-1710354600-1710360000@star.ngo
SUMMARY:Circle of Support Group (Virtual)
DESCRIPTION:STAR hosts a weekly Circle of Support meeting for survivors of sexual trauma on Wednesday evenings. This group is open to survivors of all genders ages 18 and older. Are you interested in participating? Contact us at 1-855-435-7827 to RSVP.
URL:https://star.ngo/event/circle-of-support-group-virtual-4/2024-03-13/
CATEGORIES:front page
ATTACH;FMTTYPE=image/png:https://star.ngo/wp-content/uploads/2023/06/Group-Flyers-Spring-2023.png
END:VEVENT
BEGIN:VEVENT
DTSTART;TZID=America/Chicago:20240318T173000
DTEND;TZID=America/Chicago:20240318T183000
DTSTAMP:20260421T050451
CREATED:20240216T205432Z
LAST-MODIFIED:20240219T213237Z
UID:10001345-1710783000-1710786600@star.ngo
SUMMARY:Secondary Survivor Support Group (Virtual)
DESCRIPTION:STAR hosts a weekly Secondary Survivor Support Group for parents\, guardians\, and loved ones of survivors who have experienced sexual trauma on Monday evenings. This group is open to secondary survivors of all genders ages 18 and older. Are you interested in participating? Contact us at (855) 435-7827 to RSVP.
URL:https://star.ngo/event/secondary-survivor-support-group-virtual-7/2024-03-18/
LOCATION:Virtual
CATEGORIES:front page
ATTACH;FMTTYPE=image/png:https://star.ngo/wp-content/uploads/2024/02/Virtual-ASST-Support-Groups-Spring-2024.png
END:VEVENT
BEGIN:VEVENT
DTSTART;TZID=America/Chicago:20240320T183000
DTEND;TZID=America/Chicago:20240320T200000
DTSTAMP:20260421T050451
CREATED:20240105T212901Z
LAST-MODIFIED:20240105T212901Z
UID:10001331-1710959400-1710964800@star.ngo
SUMMARY:Circle of Support Group (Virtual)
DESCRIPTION:STAR hosts a weekly Circle of Support meeting for survivors of sexual trauma on Wednesday evenings. This group is open to survivors of all genders ages 18 and older. Are you interested in participating? Contact us at 1-855-435-7827 to RSVP.
URL:https://star.ngo/event/circle-of-support-group-virtual-4/2024-03-20/
CATEGORIES:front page
ATTACH;FMTTYPE=image/png:https://star.ngo/wp-content/uploads/2023/06/Group-Flyers-Spring-2023.png
END:VEVENT
BEGIN:VEVENT
DTSTART;TZID=America/Chicago:20240325T080000
DTEND;TZID=America/Chicago:20240325T170000
DTSTAMP:20260421T050451
CREATED:20240325T170344Z
LAST-MODIFIED:20240325T170345Z
UID:10001358-1711353600-1711386000@star.ngo
SUMMARY:Secondary Survivor Support Group (Virtual)
DESCRIPTION:STAR hosts a weekly Secondary Survivor Support Group for parents\, guardians\, and loved ones of survivors who have experienced sexual trauma on Monday evenings. This group is open to secondary survivors of all genders ages 18 and older. Are you interested in participating? Contact us at (855) 435-7827 to RSVP.
URL:https://star.ngo/event/secondary-survivor-support-group-virtual-7-2/2024-03-25/1/
LOCATION:Virtual
CATEGORIES:front page
ATTACH;FMTTYPE=image/png:https://star.ngo/wp-content/uploads/2024/02/Virtual-ASST-Support-Groups-Spring-2024.png
END:VEVENT
BEGIN:VEVENT
DTSTART;TZID=America/Chicago:20240325T173000
DTEND;TZID=America/Chicago:20240325T183000
DTSTAMP:20260421T050451
CREATED:20240325T170344Z
LAST-MODIFIED:20240325T170345Z
UID:10001346-1711387800-1711391400@star.ngo
SUMMARY:Secondary Survivor Support Group (Virtual)
DESCRIPTION:STAR hosts a weekly Secondary Survivor Support Group for parents\, guardians\, and loved ones of survivors who have experienced sexual trauma on Monday evenings. This group is open to secondary survivors of all genders ages 18 and older. Are you interested in participating? Contact us at (855) 435-7827 to RSVP.
URL:https://star.ngo/event/secondary-survivor-support-group-virtual-7-2/2024-03-25/2/
LOCATION:Virtual
CATEGORIES:front page
ATTACH;FMTTYPE=image/png:https://star.ngo/wp-content/uploads/2024/02/Virtual-ASST-Support-Groups-Spring-2024.png
END:VEVENT
BEGIN:VEVENT
DTSTART;TZID=America/Chicago:20240327T183000
DTEND;TZID=America/Chicago:20240327T200000
DTSTAMP:20260421T050451
CREATED:20240105T212901Z
LAST-MODIFIED:20240105T212901Z
UID:10001332-1711564200-1711569600@star.ngo
SUMMARY:Circle of Support Group (Virtual)
DESCRIPTION:STAR hosts a weekly Circle of Support meeting for survivors of sexual trauma on Wednesday evenings. This group is open to survivors of all genders ages 18 and older. Are you interested in participating? Contact us at 1-855-435-7827 to RSVP.
URL:https://star.ngo/event/circle-of-support-group-virtual-4/2024-03-27/
CATEGORIES:front page
ATTACH;FMTTYPE=image/png:https://star.ngo/wp-content/uploads/2023/06/Group-Flyers-Spring-2023.png
END:VEVENT
BEGIN:VEVENT
DTSTART;VALUE=DATE:20240329
DTEND;VALUE=DATE:20240330
DTSTAMP:20260421T050451
CREATED:20240313T193648Z
LAST-MODIFIED:20240313T195314Z
UID:10001355-1711670400-1711756799@star.ngo
SUMMARY:Office Closed - Good Friday
DESCRIPTION:We will be closed on Friday\, March 29th in observance of Good Friday. Our 24/7 hotline will be available if you need support during this time: 855-435-7827
URL:https://star.ngo/event/office-closed-good-friday/
CATEGORIES:front page
END:VEVENT
END:VCALENDAR