BEGIN:VCALENDAR
VERSION:2.0
PRODID:-//STAR - ECPv6.15.20//NONSGML v1.0//EN
CALSCALE:GREGORIAN
METHOD:PUBLISH
X-WR-CALNAME:STAR
X-ORIGINAL-URL:https://star.ngo
X-WR-CALDESC:Events for STAR
REFRESH-INTERVAL;VALUE=DURATION:PT1H
X-Robots-Tag:noindex
X-PUBLISHED-TTL:PT1H
BEGIN:VTIMEZONE
TZID:America/Chicago
BEGIN:DAYLIGHT
TZOFFSETFROM:-0600
TZOFFSETTO:-0500
TZNAME:CDT
DTSTART:20220313T080000
END:DAYLIGHT
BEGIN:STANDARD
TZOFFSETFROM:-0500
TZOFFSETTO:-0600
TZNAME:CST
DTSTART:20221106T070000
END:STANDARD
BEGIN:DAYLIGHT
TZOFFSETFROM:-0600
TZOFFSETTO:-0500
TZNAME:CDT
DTSTART:20230312T080000
END:DAYLIGHT
BEGIN:STANDARD
TZOFFSETFROM:-0500
TZOFFSETTO:-0600
TZNAME:CST
DTSTART:20231105T070000
END:STANDARD
BEGIN:DAYLIGHT
TZOFFSETFROM:-0600
TZOFFSETTO:-0500
TZNAME:CDT
DTSTART:20240310T080000
END:DAYLIGHT
BEGIN:STANDARD
TZOFFSETFROM:-0500
TZOFFSETTO:-0600
TZNAME:CST
DTSTART:20241103T070000
END:STANDARD
END:VTIMEZONE
BEGIN:VTIMEZONE
TZID:America/New_York
BEGIN:DAYLIGHT
TZOFFSETFROM:-0500
TZOFFSETTO:-0400
TZNAME:EDT
DTSTART:20220313T070000
END:DAYLIGHT
BEGIN:STANDARD
TZOFFSETFROM:-0400
TZOFFSETTO:-0500
TZNAME:EST
DTSTART:20221106T060000
END:STANDARD
BEGIN:DAYLIGHT
TZOFFSETFROM:-0500
TZOFFSETTO:-0400
TZNAME:EDT
DTSTART:20230312T070000
END:DAYLIGHT
BEGIN:STANDARD
TZOFFSETFROM:-0400
TZOFFSETTO:-0500
TZNAME:EST
DTSTART:20231105T060000
END:STANDARD
BEGIN:DAYLIGHT
TZOFFSETFROM:-0500
TZOFFSETTO:-0400
TZNAME:EDT
DTSTART:20240310T070000
END:DAYLIGHT
BEGIN:STANDARD
TZOFFSETFROM:-0400
TZOFFSETTO:-0500
TZNAME:EST
DTSTART:20241103T060000
END:STANDARD
END:VTIMEZONE
BEGIN:VEVENT
DTSTART;TZID=America/Chicago:20231101T183000
DTEND;TZID=America/Chicago:20231101T200000
DTSTAMP:20260421T013528
CREATED:20230817T155403Z
LAST-MODIFIED:20230918T204121Z
UID:10001117-1698863400-1698868800@star.ngo
SUMMARY:Circle of Support Group (Virtual)
DESCRIPTION:STAR hosts a weekly Circle of Support meeting for survivors of sexual trauma on Wednesday evenings. This group is open to survivors of all genders ages 18 and older. Are you interested in participating? Contact us at (225) 615-7093 to RSVP.
URL:https://star.ngo/event/circle-of-support-group-virtual-3-2/2023-11-01/
CATEGORIES:front page
ATTACH;FMTTYPE=image/png:https://star.ngo/wp-content/uploads/2023/06/Group-Flyers-Spring-2023.png
END:VEVENT
BEGIN:VEVENT
DTSTART;TZID=America/Chicago:20231108T183000
DTEND;TZID=America/Chicago:20231108T200000
DTSTAMP:20260421T013528
CREATED:20230817T155403Z
LAST-MODIFIED:20230918T204121Z
UID:10001118-1699468200-1699473600@star.ngo
SUMMARY:Circle of Support Group (Virtual)
DESCRIPTION:STAR hosts a weekly Circle of Support meeting for survivors of sexual trauma on Wednesday evenings. This group is open to survivors of all genders ages 18 and older. Are you interested in participating? Contact us at (225) 615-7093 to RSVP.
URL:https://star.ngo/event/circle-of-support-group-virtual-3-2/2023-11-08/
CATEGORIES:front page
ATTACH;FMTTYPE=image/png:https://star.ngo/wp-content/uploads/2023/06/Group-Flyers-Spring-2023.png
END:VEVENT
BEGIN:VEVENT
DTSTART;VALUE=DATE:20231110
DTEND;VALUE=DATE:20231111
DTSTAMP:20260421T013528
CREATED:20230918T210802Z
LAST-MODIFIED:20230918T210829Z
UID:10001221-1699574400-1699660799@star.ngo
SUMMARY:Office Closed - Veteran's Day
DESCRIPTION:STAR’s offices will be closed on Friday\, November 10th in observance of Veteran’s Day. STAR’s 24/7 hotline is available at 1-855-435-7827.
URL:https://star.ngo/event/office-closed-veterans-day/
CATEGORIES:front page
ATTACH;FMTTYPE=image/png:https://star.ngo/wp-content/uploads/2023/09/veterans-day-1.png
END:VEVENT
BEGIN:VEVENT
DTSTART;TZID=America/New_York:20231113T180000
DTEND;TZID=America/New_York:20231113T191500
DTSTAMP:20260421T013528
CREATED:20230918T203922Z
LAST-MODIFIED:20231205T160647Z
UID:10001213-1699898400-1699902900@star.ngo
SUMMARY:Trauma Therapy Support Group (Virtual)
DESCRIPTION:STAR hosts a weekly Healing Support Group for survivors of sexual trauma on Monday evenings. This group is open to survivors of all genders ages 18 and older. Are you interested in participating? Contact us at (855) 435-7827 to RSVP.
URL:https://star.ngo/event/trauma-therapy-support-group-virtual-3-2-2-2/2023-11-13/
LOCATION:Virtual
CATEGORIES:front page
ATTACH;FMTTYPE=image/png:https://star.ngo/wp-content/uploads/2022/02/Monday-Group-Therapy.png
END:VEVENT
BEGIN:VEVENT
DTSTART;TZID=America/Chicago:20231115T183000
DTEND;TZID=America/Chicago:20231115T200000
DTSTAMP:20260421T013528
CREATED:20230817T155403Z
LAST-MODIFIED:20230918T204121Z
UID:10001119-1700073000-1700078400@star.ngo
SUMMARY:Circle of Support Group (Virtual)
DESCRIPTION:STAR hosts a weekly Circle of Support meeting for survivors of sexual trauma on Wednesday evenings. This group is open to survivors of all genders ages 18 and older. Are you interested in participating? Contact us at (225) 615-7093 to RSVP.
URL:https://star.ngo/event/circle-of-support-group-virtual-3-2/2023-11-15/
CATEGORIES:front page
ATTACH;FMTTYPE=image/png:https://star.ngo/wp-content/uploads/2023/06/Group-Flyers-Spring-2023.png
END:VEVENT
BEGIN:VEVENT
DTSTART;TZID=America/New_York:20231120T180000
DTEND;TZID=America/New_York:20231120T191500
DTSTAMP:20260421T013528
CREATED:20230918T203922Z
LAST-MODIFIED:20231205T160647Z
UID:10001214-1700503200-1700507700@star.ngo
SUMMARY:Trauma Therapy Support Group (Virtual)
DESCRIPTION:STAR hosts a weekly Healing Support Group for survivors of sexual trauma on Monday evenings. This group is open to survivors of all genders ages 18 and older. Are you interested in participating? Contact us at (855) 435-7827 to RSVP.
URL:https://star.ngo/event/trauma-therapy-support-group-virtual-3-2-2-2/2023-11-20/
LOCATION:Virtual
CATEGORIES:front page
ATTACH;FMTTYPE=image/png:https://star.ngo/wp-content/uploads/2022/02/Monday-Group-Therapy.png
END:VEVENT
BEGIN:VEVENT
DTSTART;TZID=America/Chicago:20231122T183000
DTEND;TZID=America/Chicago:20231122T200000
DTSTAMP:20260421T013528
CREATED:20230817T155403Z
LAST-MODIFIED:20230918T204121Z
UID:10001120-1700677800-1700683200@star.ngo
SUMMARY:Circle of Support Group (Virtual)
DESCRIPTION:STAR hosts a weekly Circle of Support meeting for survivors of sexual trauma on Wednesday evenings. This group is open to survivors of all genders ages 18 and older. Are you interested in participating? Contact us at (225) 615-7093 to RSVP.
URL:https://star.ngo/event/circle-of-support-group-virtual-3-2/2023-11-22/
CATEGORIES:front page
ATTACH;FMTTYPE=image/png:https://star.ngo/wp-content/uploads/2023/06/Group-Flyers-Spring-2023.png
END:VEVENT
BEGIN:VEVENT
DTSTART;TZID=America/New_York:20231127T180000
DTEND;TZID=America/New_York:20231127T191500
DTSTAMP:20260421T013528
CREATED:20230918T203922Z
LAST-MODIFIED:20231205T160647Z
UID:10001215-1701108000-1701112500@star.ngo
SUMMARY:Trauma Therapy Support Group (Virtual)
DESCRIPTION:STAR hosts a weekly Healing Support Group for survivors of sexual trauma on Monday evenings. This group is open to survivors of all genders ages 18 and older. Are you interested in participating? Contact us at (855) 435-7827 to RSVP.
URL:https://star.ngo/event/trauma-therapy-support-group-virtual-3-2-2-2/2023-11-27/
LOCATION:Virtual
CATEGORIES:front page
ATTACH;FMTTYPE=image/png:https://star.ngo/wp-content/uploads/2022/02/Monday-Group-Therapy.png
END:VEVENT
BEGIN:VEVENT
DTSTART;TZID=America/Chicago:20231129T183000
DTEND;TZID=America/Chicago:20231129T200000
DTSTAMP:20260421T013528
CREATED:20230817T155403Z
LAST-MODIFIED:20230918T204121Z
UID:10001121-1701282600-1701288000@star.ngo
SUMMARY:Circle of Support Group (Virtual)
DESCRIPTION:STAR hosts a weekly Circle of Support meeting for survivors of sexual trauma on Wednesday evenings. This group is open to survivors of all genders ages 18 and older. Are you interested in participating? Contact us at (225) 615-7093 to RSVP.
URL:https://star.ngo/event/circle-of-support-group-virtual-3-2/2023-11-29/
CATEGORIES:front page
ATTACH;FMTTYPE=image/png:https://star.ngo/wp-content/uploads/2023/06/Group-Flyers-Spring-2023.png
END:VEVENT
END:VCALENDAR